Workbook

Sheet 春入力
A2: 令和 | D2: 8 | E2: 年度 | I2: は直接入力
A3: ブロック名 | F3: 男女の別 | I3: は、クリックすると矢印がでるので、リストから選択
A4: 中学校名・地域クラブ名 | E4: 中学校
A5: JBA ID チーム登録番号 | E5: ←男子「T45」、女子「T46」から始まる番号
A6: 校長名（チーム代表者名） | E6: ←中学校は「校長」、地域クラブは「代表者」
A7: コーチ名 | E7: 部活指導員 | G7: ←部活指導員ならば「○」を選択。そうでないなら、「空欄」
A8: アシスタントコーチ名 | E8: 外部指導者 | G8: ←外部指導者ならば「○」を選択。そうでないなら、「空欄」
A9: マネージャー名 | E9: ←中学校教員または生徒
A10: 引率責任者名
A11: 帯同審判名 | F11: 青色は、審判ライセンスの級を選ぶ。
A12: 提出日 | D12: 46113 | E12: ←2026/4/1のように記入
H13: キャプテンに○
F14: 整数値のみ | H14: ↓
B15: No. | C15: 背番号 | D15: 選手名 | E15: 学年 | F15: 身長 | G15: ポジション | H15: キャプテン | I15: JBA ID
B16: 1
B17: 2 | J17: ＜記入上の注意＞
B18: 3 | J18: ポジションは，①②のどちらかの形式で記入のこと。
B19: 4 | J19: ① G・・・ガード
B20: 5 | J20: F・・・フォワード
B21: 6 | J21: C・・・センター
B22: 7 | J22: 兼ねている場合は，GFなどのように書く。
B23: 8
B24: 9 | J24: ② PG・・・ポイントガード
B25: 10 | J25: SG・・・シューティングガード
B26: 11 | J26: SF・・・スモールフォワード
B27: 12 | J27: PF・・・パワーフォワード
B28: 13 | J28: C・・・センター
B29: 14
B30: 15

Sheet 春季
A1: ="令和 "&春入力!D2&" 年度 第 "&春入力!D2+55&" 回滋賀県中学校春季体育大会 出場申込書" -> 令和 8 年度 第 63 回滋賀県中学校春季体育大会 出場申込書
A2: チーム名 | E2: =IF(春入力!D4=""," ",春入力!D4) | Z2: =IF(春入力!E4=""," ",春入力!E4) -> 中学校 | AG2: =IF(春入力!F4=""," ",春入力!F4) | AM2: ブロック | AP2: =IF(春入力!D3=""," ",春入力!D3)
A3: 代表者 | E3: =IF(春入力!D6=""," ",春入力!D6) | Q3: 引率責任者 | W3: =IF(春入力!D10="","",春入力!D10) | AG3: チーム JBA ID | AM3: =IF(春入力!D5=""," ",春入力!D5)
A4: コーチ | E4: =IF(春入力!D7="","",春入力!D7)&IF(春入力!F7="○","（部活指導員）","") | X4: アシスタント コーチ | AD4: =IF(春入力!D8="","",春入力!D8)&IF(春入力!F8="○","（外部指導者）","")
A5: マネージャー | E5: =IF(春入力!D9=""," ",春入力!D9) | X5: 帯同審判 | AD5: =IF(春入力!D11=""," ",春入力!D11)&IF(春入力!D11=""," "," ("&春入力!E11&")")
A6: No. | C6: 背番号 | F6: CAP | I6: 選手名 | U6: 学年 | Y6: 身長 | AE6: ポジション | AJ6: 選手 ＪＢＡ ID
A7: 1 | C7: =IF(春入力!C16=""," ",春入力!C16) | F7: =IF(春入力!H16=""," ",春入力!H16) | I7: =IF(春入力!D16=""," ",春入力!D16) | U7: =IF(春入力!E16=""," ",春入力!E16) | Y7: =IF(春入力!F16=""," ",春入力!F16) | AE7: =IF(春入力!G16=""," ",春入力!G16) | AJ7: =IF(春入力!I16=""," ",春入力!I16)
A8: 2 | C8: =IF(春入力!C17=""," ",春入力!C17) | F8: =IF(春入力!H17=""," ",春入力!H17) | I8: =IF(春入力!D17=""," ",春入力!D17) | U8: =IF(春入力!E17=""," ",春入力!E17) | Y8: =IF(春入力!F17=""," ",春入力!F17) | AE8: =IF(春入力!G17=""," ",春入力!G17) | AJ8: =IF(春入力!I17=""," ",春入力!I17)
A9: 3 | C9: =IF(春入力!C18=""," ",春入力!C18) | F9: =IF(春入力!H18=""," ",春入力!H18) | I9: =IF(春入力!D18=""," ",春入力!D18) | U9: =IF(春入力!E18=""," ",春入力!E18) | Y9: =IF(春入力!F18=""," ",春入力!F18) | AE9: =IF(春入力!G18=""," ",春入力!G18) | AJ9: =IF(春入力!I18=""," ",春入力!I18)
A10: 4 | C10: =IF(春入力!C19=""," ",春入力!C19) | F10: =IF(春入力!H19=""," ",春入力!H19) | I10: =IF(春入力!D19=""," ",春入力!D19) | U10: =IF(春入力!E19=""," ",春入力!E19) | Y10: =IF(春入力!F19=""," ",春入力!F19) | AE10: =IF(春入力!G19=""," ",春入力!G19) | AJ10: =IF(春入力!I19=""," ",春入力!I19)
A11: 5 | C11: =IF(春入力!C20=""," ",春入力!C20) | F11: =IF(春入力!H20=""," ",春入力!H20) | I11: =IF(春入力!D20=""," ",春入力!D20) | U11: =IF(春入力!E20=""," ",春入力!E20) | Y11: =IF(春入力!F20=""," ",春入力!F20) | AE11: =IF(春入力!G20=""," ",春入力!G20) | AJ11: =IF(春入力!I20=""," ",春入力!I20)
A12: 6 | C12: =IF(春入力!C21=""," ",春入力!C21) | F12: =IF(春入力!H21=""," ",春入力!H21) | I12: =IF(春入力!D21=""," ",春入力!D21) | U12: =IF(春入力!E21=""," ",春入力!E21) | Y12: =IF(春入力!F21=""," ",春入力!F21) | AE12: =IF(春入力!G21=""," ",春入力!G21) | AJ12: =IF(春入力!I21=""," ",春入力!I21)
A13: 7 | C13: =IF(春入力!C22=""," ",春入力!C22) | F13: =IF(春入力!H22=""," ",春入力!H22) | I13: =IF(春入力!D22=""," ",春入力!D22) | U13: =IF(春入力!E22=""," ",春入力!E22) | Y13: =IF(春入力!F22=""," ",春入力!F22) | AE13: =IF(春入力!G22=""," ",春入力!G22) | AJ13: =IF(春入力!I22=""," ",春入力!I22)
A14: 8 | C14: =IF(春入力!C23=""," ",春入力!C23) | F14: =IF(春入力!H23=""," ",春入力!H23) | I14: =IF(春入力!D23=""," ",春入力!D23) | U14: =IF(春入力!E23=""," ",春入力!E23) | Y14: =IF(春入力!F23=""," ",春入力!F23) | AE14: =IF(春入力!G23=""," ",春入力!G23) | AJ14: =IF(春入力!I23=""," ",春入力!I23)
A15: 9 | C15: =IF(春入力!C24=""," ",春入力!C24) | F15: =IF(春入力!H24=""," ",春入力!H24) | I15: =IF(春入力!D24=""," ",春入力!D24) | U15: =IF(春入力!E24=""," ",春入力!E24) | Y15: =IF(春入力!F24=""," ",春入力!F24) | AE15: =IF(春入力!G24=""," ",春入力!G24) | AJ15: =IF(春入力!I24=""," ",春入力!I24)
A16: 10 | C16: =IF(春入力!C25=""," ",春入力!C25) | F16: =IF(春入力!H25=""," ",春入力!H25) | I16: =IF(春入力!D25=""," ",春入力!D25) | U16: =IF(春入力!E25=""," ",春入力!E25) | Y16: =IF(春入力!F25=""," ",春入力!F25) | AE16: =IF(春入力!G25=""," ",春入力!G25) | AJ16: =IF(春入力!I25=""," ",春入力!I25)
A17: 11 | C17: =IF(春入力!C26=""," ",春入力!C26) | F17: =IF(春入力!H26=""," ",春入力!H26) | I17: =IF(春入力!D26=""," ",春入力!D26) | U17: =IF(春入力!E26=""," ",春入力!E26) | Y17: =IF(春入力!F26=""," ",春入力!F26) | AE17: =IF(春入力!G26=""," ",春入力!G26) | AJ17: =IF(春入力!I26=""," ",春入力!I26)
A18: 12 | C18: =IF(春入力!C27=""," ",春入力!C27) | F18: =IF(春入力!H27=""," ",春入力!H27) | I18: =IF(春入力!D27=""," ",春入力!D27) | U18: =IF(春入力!E27=""," ",春入力!E27) | Y18: =IF(春入力!F27=""," ",春入力!F27) | AE18: =IF(春入力!G27=""," ",春入力!G27) | AJ18: =IF(春入力!I27=""," ",春入力!I27)
... A21: 15 | C21: =IF(春入力!C30=""," ",春入力!C30) | F21: =IF(春入力!H30=""," ",春入力!H30) | I21: =IF(春入力!D30=""," ",春入力!D30) | U21: =IF(春入力!E30=""," ",春入力!E30) | Y21: =IF(春入力!F30=""," ",春入力!F30) | AE21: =IF(春入力!G30=""," ",春入力!G30) | AJ21: =IF(春入力!I30=""," ",春入力!I30)
A29: 上記の選手は、本校在学（本チーム在籍）であり、標記大会に参加することを承認します。
A30: また、本大会の参加申し込みに際し、中体連の規定を確認し、個人情報の取り扱いについて同意を得ています。
S32: =IF(春入力!D12=""," ",春入力!D12) -> 46113
B33: =IF(春入力!D6="","","学校代表（チーム代表) "&春入力!D6&" ")

Sheet 夏入力 
A2: 令和 | D2: 8 | E2: 年度 | I2: は直接入力
A3: ブロック名 | F3: 男女の別 | I3: は、クリックすると矢印がでるので、リストから選択
A4: 中学校名・地域クラブ名 | E4: 中学校
A5: JBA ID チーム登録番号 | E5: ←男子「T45」、女子「T46」から始まる番号
A6: 校長名（チーム代表者名） | E6: ←中学校は「校長」、地域クラブは「代表者」
A7: コーチ名 | E7: 部活指導員 | G7: ←部活指導員ならば「○」を選択。そうでないなら、「空欄」
A8: アシスタントコーチ名 | E8: 外部指導者 | G8: ←外部指導者ならば「○」を選択。そうでないなら、「空欄」
A9: マネージャー名 | E9: ←中学校教員または生徒
A10: 引率責任者名
A11: 帯同審判名 | F11: 青色は、審判ライセンスの級を選ぶ。
A12: 提出日 | D12: 46113 | E12: ←2026/4/1のように記入
H13: キャプテンに○
F14: 整数値のみ | H14: ↓
B15: No. | C15: 背番号 | D15: 選手名 | E15: 学年 | F15: 身長 | G15: ポジション | H15: キャプテン | I15: JBA ID
B16: 1
B17: 2 | J17: ＜記入上の注意＞
B18: 3 | J18: ポジションは，①②のどちらかの形式で記入のこと。
B19: 4 | J19: ① G・・・ガード
B20: 5 | J20: F・・・フォワード
B21: 6 | J21: C・・・センター
B22: 7 | J22: 兼ねている場合は，GFなどのように書く。
B23: 8
B24: 9 | J24: ② PG・・・ポイントガード
B25: 10 | J25: SG・・・シューティングガード
B26: 11 | J26: SF・・・スモールフォワード
B27: 12 | J27: PF・・・パワーフォワード
B28: 13 | J28: C・・・センター
B29: 14
B30: 15

Sheet 夏季
A1: ="令和 "&'夏入力 '!D2&" 年度 第 "&'夏入力 '!D2+70&" 回滋賀県中学校夏季総合体育大会 出場申込書" -> 令和 8 年度 第 78 回滋賀県中学校夏季総合体育大会 出場申込書
A2: チーム名 | E2: =IF('夏入力 '!D4=""," ",'夏入力 '!D4) | Z2: =IF('夏入力 '!E4=""," ",'夏入力 '!E4) -> 中学校 | AG2: =IF('夏入力 '!F4=""," ",'夏入力 '!F4) | AM2: ブロック | AP2: =IF('夏入力 '!D3=""," ",'夏入力 '!D3)
A3: 代表者 | E3: =IF('夏入力 '!D6=""," ",'夏入力 '!D6) | Q3: 引率責任者 | W3: =IF('夏入力 '!D10="","",'夏入力 '!D10) | AG3: チーム JBA ID | AM3: =IF('夏入力 '!D5=""," ",'夏入力 '!D5)
A4: コーチ | E4: =IF('夏入力 '!D7="","",'夏入力 '!D7)&IF('夏入力 '!F7="○","（部活指導員）","") | X4: アシスタント コーチ | AD4: =IF('夏入力 '!D8="","",'夏入力 '!D8)&IF('夏入力 '!F8="○","（外部指導者）","")
A5: マネージャー | E5: =IF('夏入力 '!D9=""," ",'夏入力 '!D9) | X5: 帯同審判 | AD5: =IF('夏入力 '!D11=""," ",'夏入力 '!D11)&IF('夏入力 '!D11=""," "," ("&'夏入力 '!E11&")")
A6: No. | C6: 背番号 | F6: CAP | I6: 選手名 | U6: 学年 | Y6: 身長 | AE6: ポジション | AJ6: 選手 ＪＢＡ ID
A7: 1 | C7: =IF('夏入力 '!C16=""," ",'夏入力 '!C16) | F7: =IF('夏入力 '!H16=""," ",'夏入力 '!H16) | I7: =IF('夏入力 '!D16=""," ",'夏入力 '!D16) | U7: =IF('夏入力 '!E16=""," ",'夏入力 '!E16) | Y7: =IF('夏入力 '!F16=""," ",'夏入力 '!F16) | AE7: =IF('夏入力 '!G16=""," ",'夏入力 '!G16) | AJ7: =IF('夏入力 '!I16=""," ",'夏入力 '!I16)
A8: 2 | C8: =IF('夏入力 '!C17=""," ",'夏入力 '!C17) | F8: =IF('夏入力 '!H17=""," ",'夏入力 '!H17) | I8: =IF('夏入力 '!D17=""," ",'夏入力 '!D17) | U8: =IF('夏入力 '!E17=""," ",'夏入力 '!E17) | Y8: =IF('夏入力 '!F17=""," ",'夏入力 '!F17) | AE8: =IF('夏入力 '!G17=""," ",'夏入力 '!G17) | AJ8: =IF('夏入力 '!I17=""," ",'夏入力 '!I17)
A9: 3 | C9: =IF('夏入力 '!C18=""," ",'夏入力 '!C18) | F9: =IF('夏入力 '!H18=""," ",'夏入力 '!H18) | I9: =IF('夏入力 '!D18=""," ",'夏入力 '!D18) | U9: =IF('夏入力 '!E18=""," ",'夏入力 '!E18) | Y9: =IF('夏入力 '!F18=""," ",'夏入力 '!F18) | AE9: =IF('夏入力 '!G18=""," ",'夏入力 '!G18) | AJ9: =IF('夏入力 '!I18=""," ",'夏入力 '!I18)
A10: 4 | C10: =IF('夏入力 '!C19=""," ",'夏入力 '!C19) | F10: =IF('夏入力 '!H19=""," ",'夏入力 '!H19) | I10: =IF('夏入力 '!D19=""," ",'夏入力 '!D19) | U10: =IF('夏入力 '!E19=""," ",'夏入力 '!E19) | Y10: =IF('夏入力 '!F19=""," ",'夏入力 '!F19) | AE10: =IF('夏入力 '!G19=""," ",'夏入力 '!G19) | AJ10: =IF('夏入力 '!I19=""," ",'夏入力 '!I19)
A11: 5 | C11: =IF('夏入力 '!C20=""," ",'夏入力 '!C20) | F11: =IF('夏入力 '!H20=""," ",'夏入力 '!H20) | I11: =IF('夏入力 '!D20=""," ",'夏入力 '!D20) | U11: =IF('夏入力 '!E20=""," ",'夏入力 '!E20) | Y11: =IF('夏入力 '!F20=""," ",'夏入力 '!F20) | AE11: =IF('夏入力 '!G20=""," ",'夏入力 '!G20) | AJ11: =IF('夏入力 '!I20=""," ",'夏入力 '!I20)
A12: 6 | C12: =IF('夏入力 '!C21=""," ",'夏入力 '!C21) | F12: =IF('夏入力 '!H21=""," ",'夏入力 '!H21) | I12: =IF('夏入力 '!D21=""," ",'夏入力 '!D21) | U12: =IF('夏入力 '!E21=""," ",'夏入力 '!E21) | Y12: =IF('夏入力 '!F21=""," ",'夏入力 '!F21) | AE12: =IF('夏入力 '!G21=""," ",'夏入力 '!G21) | AJ12: =IF('夏入力 '!I21=""," ",'夏入力 '!I21)
A13: 7 | C13: =IF('夏入力 '!C22=""," ",'夏入力 '!C22) | F13: =IF('夏入力 '!H22=""," ",'夏入力 '!H22) | I13: =IF('夏入力 '!D22=""," ",'夏入力 '!D22) | U13: =IF('夏入力 '!E22=""," ",'夏入力 '!E22) | Y13: =IF('夏入力 '!F22=""," ",'夏入力 '!F22) | AE13: =IF('夏入力 '!G22=""," ",'夏入力 '!G22) | AJ13: =IF('夏入力 '!I22=""," ",'夏入力 '!I22)
A14: 8 | C14: =IF('夏入力 '!C23=""," ",'夏入力 '!C23) | F14: =IF('夏入力 '!H23=""," ",'夏入力 '!H23) | I14: =IF('夏入力 '!D23=""," ",'夏入力 '!D23) | U14: =IF('夏入力 '!E23=""," ",'夏入力 '!E23) | Y14: =IF('夏入力 '!F23=""," ",'夏入力 '!F23) | AE14: =IF('夏入力 '!G23=""," ",'夏入力 '!G23) | AJ14: =IF('夏入力 '!I23=""," ",'夏入力 '!I23)
A15: 9 | C15: =IF('夏入力 '!C24=""," ",'夏入力 '!C24) | F15: =IF('夏入力 '!H24=""," ",'夏入力 '!H24) | I15: =IF('夏入力 '!D24=""," ",'夏入力 '!D24) | U15: =IF('夏入力 '!E24=""," ",'夏入力 '!E24) | Y15: =IF('夏入力 '!F24=""," ",'夏入力 '!F24) | AE15: =IF('夏入力 '!G24=""," ",'夏入力 '!G24) | AJ15: =IF('夏入力 '!I24=""," ",'夏入力 '!I24)
A16: 10 | C16: =IF('夏入力 '!C25=""," ",'夏入力 '!C25) | F16: =IF('夏入力 '!H25=""," ",'夏入力 '!H25) | I16: =IF('夏入力 '!D25=""," ",'夏入力 '!D25) | U16: =IF('夏入力 '!E25=""," ",'夏入力 '!E25) | Y16: =IF('夏入力 '!F25=""," ",'夏入力 '!F25) | AE16: =IF('夏入力 '!G25=""," ",'夏入力 '!G25) | AJ16: =IF('夏入力 '!I25=""," ",'夏入力 '!I25)
A17: 11 | C17: =IF('夏入力 '!C26=""," ",'夏入力 '!C26) | F17: =IF('夏入力 '!H26=""," ",'夏入力 '!H26) | I17: =IF('夏入力 '!D26=""," ",'夏入力 '!D26) | U17: =IF('夏入力 '!E26=""," ",'夏入力 '!E26) | Y17: =IF('夏入力 '!F26=""," ",'夏入力 '!F26) | AE17: =IF('夏入力 '!G26=""," ",'夏入力 '!G26) | AJ17: =IF('夏入力 '!I26=""," ",'夏入力 '!I26)
A18: 12 | C18: =IF('夏入力 '!C27=""," ",'夏入力 '!C27) | F18: =IF('夏入力 '!H27=""," ",'夏入力 '!H27) | I18: =IF('夏入力 '!D27=""," ",'夏入力 '!D27) | U18: =IF('夏入力 '!E27=""," ",'夏入力 '!E27) | Y18: =IF('夏入力 '!F27=""," ",'夏入力 '!F27) | AE18: =IF('夏入力 '!G27=""," ",'夏入力 '!G27) | AJ18: =IF('夏入力 '!I27=""," ",'夏入力 '!I27)
... A21: 15 | C21: =IF('夏入力 '!C30=""," ",'夏入力 '!C30) | F21: =IF('夏入力 '!H30=""," ",'夏入力 '!H30) | I21: =IF('夏入力 '!D30=""," ",'夏入力 '!D30) | U21: =IF('夏入力 '!E30=""," ",'夏入力 '!E30) | Y21: =IF('夏入力 '!F30=""," ",'夏入力 '!F30) | AE21: =IF('夏入力 '!G30=""," ",'夏入力 '!G30) | AJ21: =IF('夏入力 '!I30=""," ",'夏入力 '!I30)
A29: 上記の選手は、本校在学（本チーム在籍）であり、標記大会に参加することを承認します。
A30: また、本大会の参加申し込みに際し、中体連の規定を確認し、個人情報の取り扱いについて同意を得ています。
S32: =IF('夏入力 '!D12=""," ",'夏入力 '!D12) -> 46113
B33: =IF('夏入力 '!D6="","","学校代表（チーム代表) "&'夏入力 '!D6&" ")

Sheet 秋入力
A2: 令和 | D2: 8 | E2: 年度 | I2: は直接入力
A3: ブロック名 | F3: 男女の別 | I3: は、クリックすると矢印がでるので、リストから選択
A4: 中学校名・地域クラブ名 | E4: 中学校
A5: JBA ID チーム登録番号 | E5: ←男子「T45」、女子「T46」から始まる番号
A6: 校長名（チーム代表者名） | E6: ←中学校は「校長」、地域クラブは「代表者」
A7: コーチ名 | E7: 部活指導員 | G7: ←部活指導員ならば「○」を選択。そうでないなら、「空欄」
A8: アシスタントコーチ名 | E8: 外部指導者 | G8: ←外部指導者ならば「○」を選択。そうでないなら、「空欄」
A9: マネージャー名 | E9: ←中学校教員または生徒
A10: 引率責任者名
A11: 帯同審判名 | F11: 青色は、審判ライセンスの級を選ぶ。
A12: 提出日 | D12: 46113 | E12: ←2026/4/1のように記入
H13: キャプテンに○
F14: 整数値のみ | H14: ↓
B15: No. | C15: 背番号 | D15: 選手名 | E15: 学年 | F15: 身長 | G15: ポジション | H15: キャプテン | I15: JBA ID
B16: 1
B17: 2 | J17: ＜記入上の注意＞
B18: 3 | J18: ポジションは，①②のどちらかの形式で記入のこと。
B19: 4 | J19: ① G・・・ガード
B20: 5 | J20: F・・・フォワード
B21: 6 | J21: C・・・センター
B22: 7 | J22: 兼ねている場合は，GFなどのように書く。
B23: 8
B24: 9 | J24: ② PG・・・ポイントガード
B25: 10 | J25: SG・・・シューティングガード
B26: 11 | J26: SF・・・スモールフォワード
B27: 12 | J27: PF・・・パワーフォワード
B28: 13 | J28: C・・・センター
B29: 14
B30: 15

Sheet 秋季
A1: ="令和 "&秋入力!D2&" 年度 第 "&秋入力!D2+65&" 回滋賀県中学校秋季新人大会 出場申込書" -> 令和 8 年度 第 73 回滋賀県中学校秋季新人大会 出場申込書
A2: チーム名 | E2: =IF(秋入力!D4=""," ",秋入力!D4) | Z2: =IF(秋入力!E4=""," ",秋入力!E4) -> 中学校 | AG2: =IF(秋入力!F4=""," ",秋入力!F4) | AM2: ブロック | AP2: =IF(秋入力!D3=""," ",秋入力!D3)
A3: 代表者 | E3: =IF(秋入力!D6=""," ",秋入力!D6) | Q3: 引率責任者 | W3: =IF(秋入力!D10="","",秋入力!D10) | AG3: チーム JBA ID | AM3: =IF(秋入力!D5=""," ",秋入力!D5)
A4: コーチ | E4: =IF(秋入力!D7="","",秋入力!D7)&IF(秋入力!F7="○","（部活指導員）","") | X4: アシスタント コーチ | AD4: =IF(秋入力!D8="","",秋入力!D8)&IF(秋入力!F8="○","（外部指導者）","")
A5: マネージャー | E5: =IF(秋入力!D9=""," ",秋入力!D9) | X5: 帯同審判 | AD5: =IF(秋入力!D11=""," ",秋入力!D11)&IF(秋入力!D11=""," "," ("&秋入力!E11&")")
A6: No. | C6: 背番号 | F6: CAP | I6: 選手名 | U6: 学年 | Y6: 身長 | AE6: ポジション | AJ6: 選手 ＪＢＡ ID
A7: 1 | C7: =IF(秋入力!C16=""," ",秋入力!C16) | F7: =IF(秋入力!H16=""," ",秋入力!H16) | I7: =IF(秋入力!D16=""," ",秋入力!D16) | U7: =IF(秋入力!E16=""," ",秋入力!E16) | Y7: =IF(秋入力!F16=""," ",秋入力!F16) | AE7: =IF(秋入力!G16=""," ",秋入力!G16) | AJ7: =IF(秋入力!I16=""," ",秋入力!I16)
A8: 2 | C8: =IF(秋入力!C17=""," ",秋入力!C17) | F8: =IF(秋入力!H17=""," ",秋入力!H17) | I8: =IF(秋入力!D17=""," ",秋入力!D17) | U8: =IF(秋入力!E17=""," ",秋入力!E17) | Y8: =IF(秋入力!F17=""," ",秋入力!F17) | AE8: =IF(秋入力!G17=""," ",秋入力!G17) | AJ8: =IF(秋入力!I17=""," ",秋入力!I17)
A9: 3 | C9: =IF(秋入力!C18=""," ",秋入力!C18) | F9: =IF(秋入力!H18=""," ",秋入力!H18) | I9: =IF(秋入力!D18=""," ",秋入力!D18) | U9: =IF(秋入力!E18=""," ",秋入力!E18) | Y9: =IF(秋入力!F18=""," ",秋入力!F18) | AE9: =IF(秋入力!G18=""," ",秋入力!G18) | AJ9: =IF(秋入力!I18=""," ",秋入力!I18)
A10: 4 | C10: =IF(秋入力!C19=""," ",秋入力!C19) | F10: =IF(秋入力!H19=""," ",秋入力!H19) | I10: =IF(秋入力!D19=""," ",秋入力!D19) | U10: =IF(秋入力!E19=""," ",秋入力!E19) | Y10: =IF(秋入力!F19=""," ",秋入力!F19) | AE10: =IF(秋入力!G19=""," ",秋入力!G19) | AJ10: =IF(秋入力!I19=""," ",秋入力!I19)
A11: 5 | C11: =IF(秋入力!C20=""," ",秋入力!C20) | F11: =IF(秋入力!H20=""," ",秋入力!H20) | I11: =IF(秋入力!D20=""," ",秋入力!D20) | U11: =IF(秋入力!E20=""," ",秋入力!E20) | Y11: =IF(秋入力!F20=""," ",秋入力!F20) | AE11: =IF(秋入力!G20=""," ",秋入力!G20) | AJ11: =IF(秋入力!I20=""," ",秋入力!I20)
A12: 6 | C12: =IF(秋入力!C21=""," ",秋入力!C21) | F12: =IF(秋入力!H21=""," ",秋入力!H21) | I12: =IF(秋入力!D21=""," ",秋入力!D21) | U12: =IF(秋入力!E21=""," ",秋入力!E21) | Y12: =IF(秋入力!F21=""," ",秋入力!F21) | AE12: =IF(秋入力!G21=""," ",秋入力!G21) | AJ12: =IF(秋入力!I21=""," ",秋入力!I21)
A13: 7 | C13: =IF(秋入力!C22=""," ",秋入力!C22) | F13: =IF(秋入力!H22=""," ",秋入力!H22) | I13: =IF(秋入力!D22=""," ",秋入力!D22) | U13: =IF(秋入力!E22=""," ",秋入力!E22) | Y13: =IF(秋入力!F22=""," ",秋入力!F22) | AE13: =IF(秋入力!G22=""," ",秋入力!G22) | AJ13: =IF(秋入力!I22=""," ",秋入力!I22)
A14: 8 | C14: =IF(秋入力!C23=""," ",秋入力!C23) | F14: =IF(秋入力!H23=""," ",秋入力!H23) | I14: =IF(秋入力!D23=""," ",秋入力!D23) | U14: =IF(秋入力!E23=""," ",秋入力!E23) | Y14: =IF(秋入力!F23=""," ",秋入力!F23) | AE14: =IF(秋入力!G23=""," ",秋入力!G23) | AJ14: =IF(秋入力!I23=""," ",秋入力!I23)
A15: 9 | C15: =IF(秋入力!C24=""," ",秋入力!C24) | F15: =IF(秋入力!H24=""," ",秋入力!H24) | I15: =IF(秋入力!D24=""," ",秋入力!D24) | U15: =IF(秋入力!E24=""," ",秋入力!E24) | Y15: =IF(秋入力!F24=""," ",秋入力!F24) | AE15: =IF(秋入力!G24=""," ",秋入力!G24) | AJ15: =IF(秋入力!I24=""," ",秋入力!I24)
A16: 10 | C16: =IF(秋入力!C25=""," ",秋入力!C25) | F16: =IF(秋入力!H25=""," ",秋入力!H25) | I16: =IF(秋入力!D25=""," ",秋入力!D25) | U16: =IF(秋入力!E25=""," ",秋入力!E25) | Y16: =IF(秋入力!F25=""," ",秋入力!F25) | AE16: =IF(秋入力!G25=""," ",秋入力!G25) | AJ16: =IF(秋入力!I25=""," ",秋入力!I25)
A17: 11 | C17: =IF(秋入力!C26=""," ",秋入力!C26) | F17: =IF(秋入力!H26=""," ",秋入力!H26) | I17: =IF(秋入力!D26=""," ",秋入力!D26) | U17: =IF(秋入力!E26=""," ",秋入力!E26) | Y17: =IF(秋入力!F26=""," ",秋入力!F26) | AE17: =IF(秋入力!G26=""," ",秋入力!G26) | AJ17: =IF(秋入力!I26=""," ",秋入力!I26)
A18: 12 | C18: =IF(秋入力!C27=""," ",秋入力!C27) | F18: =IF(秋入力!H27=""," ",秋入力!H27) | I18: =IF(秋入力!D27=""," ",秋入力!D27) | U18: =IF(秋入力!E27=""," ",秋入力!E27) | Y18: =IF(秋入力!F27=""," ",秋入力!F27) | AE18: =IF(秋入力!G27=""," ",秋入力!G27) | AJ18: =IF(秋入力!I27=""," ",秋入力!I27)
... A21: 15 | C21: =IF(秋入力!C30=""," ",秋入力!C30) | F21: =IF(秋入力!H30=""," ",秋入力!H30) | I21: =IF(秋入力!D30=""," ",秋入力!D30) | U21: =IF(秋入力!E30=""," ",秋入力!E30) | Y21: =IF(秋入力!F30=""," ",秋入力!F30) | AE21: =IF(秋入力!G30=""," ",秋入力!G30) | AJ21: =IF(秋入力!I30=""," ",秋入力!I30)
A29: 上記の選手は、本校在学（本チーム在籍）であり、標記大会に参加することを承認します。
A30: また、本大会の参加申し込みに際し、中体連の規定を確認し、個人情報の取り扱いについて同意を得ています。
S32: =IF(秋入力!D12=""," ",秋入力!D12) -> 46113
B33: =IF(秋入力!D6="","","学校代表（チーム代表) "&秋入力!D6&" ")

Sheet 冬入力
A2: 令和 | D2: 8 | E2: 年度 | I2: は直接入力
A3: ブロック名 | F3: 男女の別 | I3: は、クリックすると矢印がでるので、リストから選択
A4: 中学校名・地域クラブ名 | E4: 中学校
A5: JBA ID チーム登録番号 | E5: ←男子「T45」、女子「T46」から始まる番号
A6: 校長名（チーム代表者名） | E6: ←中学校は「校長」、地域クラブは「代表者」
A7: コーチ名 | E7: 部活指導員 | G7: ←部活指導員ならば「○」を選択。そうでないなら、「空欄」
A8: アシスタントコーチ名 | E8: 外部指導者 | G8: ←外部指導者ならば「○」を選択。そうでないなら、「空欄」
A9: マネージャー名 | E9: ←中学校教員または生徒
A10: 引率責任者名
A11: 帯同審判名 | F11: 青色は、審判ライセンスの級を選ぶ。
A12: 提出日 | D12: 46113 | E12: ←2026/4/1のように記入
H13: キャプテンに○
F14: 整数値のみ | H14: ↓
B15: No. | C15: 背番号 | D15: 選手名 | E15: 学年 | F15: 身長 | G15: ポジション | H15: キャプテン | I15: JBA ID
B16: 1
B17: 2 | J17: ＜記入上の注意＞
B18: 3 | J18: ポジションは，①②のどちらかの形式で記入のこと。
B19: 4 | J19: ① G・・・ガード
B20: 5 | J20: F・・・フォワード
B21: 6 | J21: C・・・センター
B22: 7 | J22: 兼ねている場合は，GFなどのように書く。
B23: 8
B24: 9 | J24: ② PG・・・ポイントガード
B25: 10 | J25: SG・・・シューティングガード
B26: 11 | J26: SF・・・スモールフォワード
B27: 12 | J27: PF・・・パワーフォワード
B28: 13 | J28: C・・・センター
B29: 14
B30: 15

Sheet 冬季
A1: ="令和 "&冬入力!D2&" 年度 滋賀県中学校冬季強化練習会 出場申込書" -> 令和 8 年度 滋賀県中学校冬季強化練習会 出場申込書
A2: チーム名 | E2: =IF(冬入力!D4=""," ",冬入力!D4) | Z2: =IF(冬入力!E4=""," ",冬入力!E4) -> 中学校 | AG2: =IF(冬入力!F4=""," ",冬入力!F4) | AM2: ブロック | AP2: =IF(冬入力!D3=""," ",冬入力!D3)
A3: 代表者 | E3: =IF(冬入力!D6=""," ",冬入力!D6) | Q3: 引率責任者 | W3: =IF(冬入力!D10="","",冬入力!D10) | AG3: チーム JBA ID | AM3: =IF(冬入力!D5=""," ",冬入力!D5)
A4: コーチ | E4: =IF(冬入力!D7="","",冬入力!D7)&IF(冬入力!F7="○","（部活指導員）","") | X4: アシスタント コーチ | AD4: =IF(冬入力!D8="","",冬入力!D8)&IF(冬入力!F8="○","（外部指導者）","")
A5: マネージャー | E5: =IF(冬入力!D9=""," ",冬入力!D9) | X5: 帯同審判 | AD5: =IF(冬入力!D11=""," ",冬入力!D11)&IF(冬入力!D11=""," "," ("&冬入力!E11&")")
A6: No. | C6: 背番号 | F6: CAP | I6: 選手名 | U6: 学年 | Y6: 身長 | AE6: ポジション | AJ6: 選手 ＪＢＡ ID
A7: 1 | C7: =IF(冬入力!C16=""," ",冬入力!C16) | F7: =IF(冬入力!H16=""," ",冬入力!H16) | I7: =IF(冬入力!D16=""," ",冬入力!D16) | U7: =IF(冬入力!E16=""," ",冬入力!E16) | Y7: =IF(冬入力!F16=""," ",冬入力!F16) | AE7: =IF(冬入力!G16=""," ",冬入力!G16) | AJ7: =IF(冬入力!I16=""," ",冬入力!I16)
A8: 2 | C8: =IF(冬入力!C17=""," ",冬入力!C17) | F8: =IF(冬入力!H17=""," ",冬入力!H17) | I8: =IF(冬入力!D17=""," ",冬入力!D17) | U8: =IF(冬入力!E17=""," ",冬入力!E17) | Y8: =IF(冬入力!F17=""," ",冬入力!F17) | AE8: =IF(冬入力!G17=""," ",冬入力!G17) | AJ8: =IF(冬入力!I17=""," ",冬入力!I17)
A9: 3 | C9: =IF(冬入力!C18=""," ",冬入力!C18) | F9: =IF(冬入力!H18=""," ",冬入力!H18) | I9: =IF(冬入力!D18=""," ",冬入力!D18) | U9: =IF(冬入力!E18=""," ",冬入力!E18) | Y9: =IF(冬入力!F18=""," ",冬入力!F18) | AE9: =IF(冬入力!G18=""," ",冬入力!G18) | AJ9: =IF(冬入力!I18=""," ",冬入力!I18)
A10: 4 | C10: =IF(冬入力!C19=""," ",冬入力!C19) | F10: =IF(冬入力!H19=""," ",冬入力!H19) | I10: =IF(冬入力!D19=""," ",冬入力!D19) | U10: =IF(冬入力!E19=""," ",冬入力!E19) | Y10: =IF(冬入力!F19=""," ",冬入力!F19) | AE10: =IF(冬入力!G19=""," ",冬入力!G19) | AJ10: =IF(冬入力!I19=""," ",冬入力!I19)
A11: 5 | C11: =IF(冬入力!C20=""," ",冬入力!C20) | F11: =IF(冬入力!H20=""," ",冬入力!H20) | I11: =IF(冬入力!D20=""," ",冬入力!D20) | U11: =IF(冬入力!E20=""," ",冬入力!E20) | Y11: =IF(冬入力!F20=""," ",冬入力!F20) | AE11: =IF(冬入力!G20=""," ",冬入力!G20) | AJ11: =IF(冬入力!I20=""," ",冬入力!I20)
A12: 6 | C12: =IF(冬入力!C21=""," ",冬入力!C21) | F12: =IF(冬入力!H21=""," ",冬入力!H21) | I12: =IF(冬入力!D21=""," ",冬入力!D21) | U12: =IF(冬入力!E21=""," ",冬入力!E21) | Y12: =IF(冬入力!F21=""," ",冬入力!F21) | AE12: =IF(冬入力!G21=""," ",冬入力!G21) | AJ12: =IF(冬入力!I21=""," ",冬入力!I21)
A13: 7 | C13: =IF(冬入力!C22=""," ",冬入力!C22) | F13: =IF(冬入力!H22=""," ",冬入力!H22) | I13: =IF(冬入力!D22=""," ",冬入力!D22) | U13: =IF(冬入力!E22=""," ",冬入力!E22) | Y13: =IF(冬入力!F22=""," ",冬入力!F22) | AE13: =IF(冬入力!G22=""," ",冬入力!G22) | AJ13: =IF(冬入力!I22=""," ",冬入力!I22)
A14: 8 | C14: =IF(冬入力!C23=""," ",冬入力!C23) | F14: =IF(冬入力!H23=""," ",冬入力!H23) | I14: =IF(冬入力!D23=""," ",冬入力!D23) | U14: =IF(冬入力!E23=""," ",冬入力!E23) | Y14: =IF(冬入力!F23=""," ",冬入力!F23) | AE14: =IF(冬入力!G23=""," ",冬入力!G23) | AJ14: =IF(冬入力!I23=""," ",冬入力!I23)
A15: 9 | C15: =IF(冬入力!C24=""," ",冬入力!C24) | F15: =IF(冬入力!H24=""," ",冬入力!H24) | I15: =IF(冬入力!D24=""," ",冬入力!D24) | U15: =IF(冬入力!E24=""," ",冬入力!E24) | Y15: =IF(冬入力!F24=""," ",冬入力!F24) | AE15: =IF(冬入力!G24=""," ",冬入力!G24) | AJ15: =IF(冬入力!I24=""," ",冬入力!I24)
A16: 10 | C16: =IF(冬入力!C25=""," ",冬入力!C25) | F16: =IF(冬入力!H25=""," ",冬入力!H25) | I16: =IF(冬入力!D25=""," ",冬入力!D25) | U16: =IF(冬入力!E25=""," ",冬入力!E25) | Y16: =IF(冬入力!F25=""," ",冬入力!F25) | AE16: =IF(冬入力!G25=""," ",冬入力!G25) | AJ16: =IF(冬入力!I25=""," ",冬入力!I25)
A17: 11 | C17: =IF(冬入力!C26=""," ",冬入力!C26) | F17: =IF(冬入力!H26=""," ",冬入力!H26) | I17: =IF(冬入力!D26=""," ",冬入力!D26) | U17: =IF(冬入力!E26=""," ",冬入力!E26) | Y17: =IF(冬入力!F26=""," ",冬入力!F26) | AE17: =IF(冬入力!G26=""," ",冬入力!G26) | AJ17: =IF(冬入力!I26=""," ",冬入力!I26)
A18: 12 | C18: =IF(冬入力!C27=""," ",冬入力!C27) | F18: =IF(冬入力!H27=""," ",冬入力!H27) | I18: =IF(冬入力!D27=""," ",冬入力!D27) | U18: =IF(冬入力!E27=""," ",冬入力!E27) | Y18: =IF(冬入力!F27=""," ",冬入力!F27) | AE18: =IF(冬入力!G27=""," ",冬入力!G27) | AJ18: =IF(冬入力!I27=""," ",冬入力!I27)
... A21: 15 | C21: =IF(冬入力!C30=""," ",冬入力!C30) | F21: =IF(冬入力!H30=""," ",冬入力!H30) | I21: =IF(冬入力!D30=""," ",冬入力!D30) | U21: =IF(冬入力!E30=""," ",冬入力!E30) | Y21: =IF(冬入力!F30=""," ",冬入力!F30) | AE21: =IF(冬入力!G30=""," ",冬入力!G30) | AJ21: =IF(冬入力!I30=""," ",冬入力!I30)
A29: 上記の選手は、本校在学（本チーム在籍）であり、標記大会に参加することを承認します。
A30: また、本大会の参加申し込みに際し、中体連の規定を確認し、個人情報の取り扱いについて同意を得ています。
S32: =IF(冬入力!D12=""," ",冬入力!D12) -> 46113
B33: =IF(冬入力!D6="","","学校代表（チーム代表) "&冬入力!D6&" ")
