Workbook

Sheet 入力用
B1: 名 前 | D1: 男女の別
A2: ブロック | C2: ブロック
A3: 中学校名（地域クラブ名）
A4: チーム・協会登録番号
A5: 学校代表（代表者） | C5: 地域クラブは代表者名を記入
A6: 引率責任者
A7: コーチ | C7: 部活指導員
A8: アシスタントコーチ | C8: 外部指導者
A9: マネージャー
A10: 帯同審判
A11: 提出日 | C11: ※各シート、大会ごとの「年度」「大会回数」の記入をお忘れなく！
A12: 入力責任者 | C12: ←夏季総体・県大会出場時のみ
A13: 入力責任者連絡電話番号 | C13: ←夏季総体・県大会出場時のみ
G14: ↓
A15: No. | B15: 選手名 | C15: 学年 | D15: 身長 | E15: ポジション | F15: 備考 | G15: 個人・協会登録番号
A16: 4
A17: 5 | H17: ＜記入上の注意＞
A18: 6 | H18: ポジションは，①②のどちらかの形式で記入のこと。
A19: 7 | H19: ① G・・・ガード
A20: 8 | H20: F・・・フォワード
A21: 9 | H21: C・・・センター
A22: 10 | H22: 兼ねている場合は，GFなどのように書く。
A23: 11
A24: 12 | H24: ② PG・・・ポイントガード
A25: 13 | H25: SG・・・シューティングガード
A26: 14 | H26: SF・・・スモールフォワード
A27: 15 | H27: PF・・・パワーフォワード
A28: 16 | H28: C・・・センター
A29: 17
A30: 18

Sheet 春季
A1: 滋賀県中学校体育連盟 バスケットボール専門部
A3: 大会出場 申込書
A5: 令和 年度 第 回滋賀県春季総合体育大会
A7: =IF(入力用!B3=""," ",入力用!B3) | F7: =IF(入力用!D3=""," ",入力用!D3) | H7: =IF(入力用!B2=""," ",入力用!B2) | I7: ブロック
A8: コーチ | C8: =IF(入力用!D7="","","(部活指導員)")&IF(入力用!B7=""," ",入力用!B7) | F8: ｱｼｽﾀﾝﾄｺｰﾁ | G8: =IF(入力用!D8="","","(外部)")&IF(入力用!B8=""," ",入力用!B8)
A9: 引率責任者 | C9: =IF(入力用!B6=""," ",入力用!B6) | D9: ﾏﾈｰｼﾞｬｰ | E9: =IF(入力用!B9=""," ",入力用!B9) | G9: 帯同審判 | H9: =IF(入力用!B10=""," ",入力用!B10)
B10: No. | C10: 選 手 名 | F10: 学 年 | G10: 身 長 | H10: ﾎﾟｼﾞｼｮﾝ | I10: 備 考
A11: 1 | B11: =入力用!A16 -> 4 | C11: =IF(入力用!B16=""," ",入力用!B16) | F11: =IF(入力用!C16=""," ",入力用!C16) | G11: =IF(入力用!D16=""," ",入力用!D16) | H11: =IF(入力用!E16=""," ",入力用!E16) | I11: =IF(入力用!F16=""," ",入力用!F16)
A12: 2 | B12: =入力用!A17 -> 5 | C12: =IF(入力用!B17=""," ",入力用!B17) | F12: =IF(入力用!C17=""," ",入力用!C17) | G12: =IF(入力用!D17=""," ",入力用!D17) | H12: =IF(入力用!E17=""," ",入力用!E17) | I12: =IF(入力用!F17=""," ",入力用!F17)
A13: 3 | B13: =入力用!A18 -> 6 | C13: =IF(入力用!B18=""," ",入力用!B18) | F13: =IF(入力用!C18=""," ",入力用!C18) | G13: =IF(入力用!D18=""," ",入力用!D18) | H13: =IF(入力用!E18=""," ",入力用!E18) | I13: =IF(入力用!F18=""," ",入力用!F18)
A14: 4 | B14: =入力用!A19 -> 7 | C14: =IF(入力用!B19=""," ",入力用!B19) | F14: =IF(入力用!C19=""," ",入力用!C19) | G14: =IF(入力用!D19=""," ",入力用!D19) | H14: =IF(入力用!E19=""," ",入力用!E19) | I14: =IF(入力用!F19=""," ",入力用!F19)
A15: 5 | B15: =入力用!A20 -> 8 | C15: =IF(入力用!B20=""," ",入力用!B20) | F15: =IF(入力用!C20=""," ",入力用!C20) | G15: =IF(入力用!D20=""," ",入力用!D20) | H15: =IF(入力用!E20=""," ",入力用!E20) | I15: =IF(入力用!F20=""," ",入力用!F20)
A16: 6 | B16: =入力用!A21 -> 9 | C16: =IF(入力用!B21=""," ",入力用!B21) | F16: =IF(入力用!C21=""," ",入力用!C21) | G16: =IF(入力用!D21=""," ",入力用!D21) | H16: =IF(入力用!E21=""," ",入力用!E21) | I16: =IF(入力用!F21=""," ",入力用!F21)
A17: 7 | B17: =入力用!A22 -> 10 | C17: =IF(入力用!B22=""," ",入力用!B22) | F17: =IF(入力用!C22=""," ",入力用!C22) | G17: =IF(入力用!D22=""," ",入力用!D22) | H17: =IF(入力用!E22=""," ",入力用!E22) | I17: =IF(入力用!F22=""," ",入力用!F22)
A18: 8 | B18: =入力用!A23 -> 11 | C18: =IF(入力用!B23=""," ",入力用!B23) | F18: =IF(入力用!C23=""," ",入力用!C23) | G18: =IF(入力用!D23=""," ",入力用!D23) | H18: =IF(入力用!E23=""," ",入力用!E23) | I18: =IF(入力用!F23=""," ",入力用!F23)
A19: 9 | B19: =入力用!A24 -> 12 | C19: =IF(入力用!B24=""," ",入力用!B24) | F19: =IF(入力用!C24=""," ",入力用!C24) | G19: =IF(入力用!D24=""," ",入力用!D24) | H19: =IF(入力用!E24=""," ",入力用!E24) | I19: =IF(入力用!F24=""," ",入力用!F24)
A20: 10 | B20: =入力用!A25 -> 13 | C20: =IF(入力用!B25=""," ",入力用!B25) | F20: =IF(入力用!C25=""," ",入力用!C25) | G20: =IF(入力用!D25=""," ",入力用!D25) | H20: =IF(入力用!E25=""," ",入力用!E25) | I20: =IF(入力用!F25=""," ",入力用!F25)
A21: 11 | B21: =入力用!A26 -> 14 | C21: =IF(入力用!B26=""," ",入力用!B26) | F21: =IF(入力用!C26=""," ",入力用!C26) | G21: =IF(入力用!D26=""," ",入力用!D26) | H21: =IF(入力用!E26=""," ",入力用!E26) | I21: =IF(入力用!F26=""," ",入力用!F26)
A22: 12 | B22: =入力用!A27 -> 15 | C22: =IF(入力用!B27=""," ",入力用!B27) | F22: =IF(入力用!C27=""," ",入力用!C27) | G22: =IF(入力用!D27=""," ",入力用!D27) | H22: =IF(入力用!E27=""," ",入力用!E27) | I22: =IF(入力用!F27=""," ",入力用!F27)
... A25: 15 | B25: =入力用!A30 -> 18 | C25: =IF(入力用!B30=""," ",入力用!B30) | F25: =IF(入力用!C30=""," ",入力用!C30) | G25: =IF(入力用!D30=""," ",入力用!D30) | H25: =IF(入力用!E30=""," ",入力用!E30) | I25: =IF(入力用!F30=""," ",入力用!F30)
A27: 上記の者は、本校在学生徒で標記大会に参加することを承認します。
A28: また、本競技大会の参加申し込みに際し、中体連の規定を確認し、個人情報の取り扱いについて
A29: 同意を得ています。
E31: =IF(入力用!B11=""," ",入力用!B11)
A33: =IF(入力用!B3=""," ",入力用!B3&入力用!C3&" 学校長・代表 "&入力用!B5&" 印 ")
A34: 滋賀県中学校体育連盟 バスケットボール専門部

Sheet 夏季
A1: 滋賀県中学校体育連盟 バスケットボール専門部
A3: 大会出場 申込書
A5: 令和 年度 第 回滋賀県夏季総合体育大会
A7: =IF(入力用!B3=""," ",入力用!B3) | F7: =IF(入力用!D3=""," ",入力用!D3) | H7: =IF(入力用!B2=""," ",入力用!B2) | I7: ブロック
A8: コーチ | C8: =IF(入力用!D7="","","(部活指導員)")&IF(入力用!B7=""," ",入力用!B7) | F8: ｱｼｽﾀﾝﾄｺｰﾁ | G8: =IF(入力用!D8="","","(外部)")&IF(入力用!B8=""," ",入力用!B8)
A9: 引率責任者 | C9: =IF(入力用!B6=""," ",入力用!B6) | D9: ﾏﾈｰｼﾞｬｰ | E9: =IF(入力用!B9=""," ",入力用!B9) | G9: 帯同審判 | H9: =IF(入力用!B10=""," ",入力用!B10)
B10: No. | C10: 選 手 名 | F10: 学 年 | G10: 身 長 | H10: ﾎﾟｼﾞｼｮﾝ | I10: 備 考
A11: 1 | B11: =入力用!A16 -> 4 | C11: =IF(入力用!B16=""," ",入力用!B16) | F11: =IF(入力用!C16=""," ",入力用!C16) | G11: =IF(入力用!D16=""," ",入力用!D16) | H11: =IF(入力用!E16=""," ",入力用!E16) | I11: =IF(入力用!F16=""," ",入力用!F16)
A12: 2 | B12: =入力用!A17 -> 5 | C12: =IF(入力用!B17=""," ",入力用!B17) | F12: =IF(入力用!C17=""," ",入力用!C17) | G12: =IF(入力用!D17=""," ",入力用!D17) | H12: =IF(入力用!E17=""," ",入力用!E17) | I12: =IF(入力用!F17=""," ",入力用!F17)
A13: 3 | B13: =入力用!A18 -> 6 | C13: =IF(入力用!B18=""," ",入力用!B18) | F13: =IF(入力用!C18=""," ",入力用!C18) | G13: =IF(入力用!D18=""," ",入力用!D18) | H13: =IF(入力用!E18=""," ",入力用!E18) | I13: =IF(入力用!F18=""," ",入力用!F18)
A14: 4 | B14: =入力用!A19 -> 7 | C14: =IF(入力用!B19=""," ",入力用!B19) | F14: =IF(入力用!C19=""," ",入力用!C19) | G14: =IF(入力用!D19=""," ",入力用!D19) | H14: =IF(入力用!E19=""," ",入力用!E19) | I14: =IF(入力用!F19=""," ",入力用!F19)
A15: 5 | B15: =入力用!A20 -> 8 | C15: =IF(入力用!B20=""," ",入力用!B20) | F15: =IF(入力用!C20=""," ",入力用!C20) | G15: =IF(入力用!D20=""," ",入力用!D20) | H15: =IF(入力用!E20=""," ",入力用!E20) | I15: =IF(入力用!F20=""," ",入力用!F20)
A16: 6 | B16: =入力用!A21 -> 9 | C16: =IF(入力用!B21=""," ",入力用!B21) | F16: =IF(入力用!C21=""," ",入力用!C21) | G16: =IF(入力用!D21=""," ",入力用!D21) | H16: =IF(入力用!E21=""," ",入力用!E21) | I16: =IF(入力用!F21=""," ",入力用!F21)
A17: 7 | B17: =入力用!A22 -> 10 | C17: =IF(入力用!B22=""," ",入力用!B22) | F17: =IF(入力用!C22=""," ",入力用!C22) | G17: =IF(入力用!D22=""," ",入力用!D22) | H17: =IF(入力用!E22=""," ",入力用!E22) | I17: =IF(入力用!F22=""," ",入力用!F22)
A18: 8 | B18: =入力用!A23 -> 11 | C18: =IF(入力用!B23=""," ",入力用!B23) | F18: =IF(入力用!C23=""," ",入力用!C23) | G18: =IF(入力用!D23=""," ",入力用!D23) | H18: =IF(入力用!E23=""," ",入力用!E23) | I18: =IF(入力用!F23=""," ",入力用!F23)
A19: 9 | B19: =入力用!A24 -> 12 | C19: =IF(入力用!B24=""," ",入力用!B24) | F19: =IF(入力用!C24=""," ",入力用!C24) | G19: =IF(入力用!D24=""," ",入力用!D24) | H19: =IF(入力用!E24=""," ",入力用!E24) | I19: =IF(入力用!F24=""," ",入力用!F24)
A20: 10 | B20: =入力用!A25 -> 13 | C20: =IF(入力用!B25=""," ",入力用!B25) | F20: =IF(入力用!C25=""," ",入力用!C25) | G20: =IF(入力用!D25=""," ",入力用!D25) | H20: =IF(入力用!E25=""," ",入力用!E25) | I20: =IF(入力用!F25=""," ",入力用!F25)
A21: 11 | B21: =入力用!A26 -> 14 | C21: =IF(入力用!B26=""," ",入力用!B26) | F21: =IF(入力用!C26=""," ",入力用!C26) | G21: =IF(入力用!D26=""," ",入力用!D26) | H21: =IF(入力用!E26=""," ",入力用!E26) | I21: =IF(入力用!F26=""," ",入力用!F26)
A22: 12 | B22: =入力用!A27 -> 15 | C22: =IF(入力用!B27=""," ",入力用!B27) | F22: =IF(入力用!C27=""," ",入力用!C27) | G22: =IF(入力用!D27=""," ",入力用!D27) | H22: =IF(入力用!E27=""," ",入力用!E27) | I22: =IF(入力用!F27=""," ",入力用!F27)
... A25: 15 | B25: =入力用!A30 -> 18 | C25: =IF(入力用!B30=""," ",入力用!B30) | F25: =IF(入力用!C30=""," ",入力用!C30) | G25: =IF(入力用!D30=""," ",入力用!D30) | H25: =IF(入力用!E30=""," ",入力用!E30) | I25: =IF(入力用!F30=""," ",入力用!F30)
A27: 上記の者は、本校在学生徒で標記大会に参加することを承認します。
A28: また、本競技大会の参加申し込みに際し、中体連の規定を確認し、個人情報の取り扱いについて
A29: 同意を得ています。
E31: =IF(入力用!B11=""," ",入力用!B11)
A33: =IF(入力用!B3=""," ",入力用!B3&入力用!C3&" 学校長・代表 "&入力用!B5&" 印 ")

Sheet 秋季
A1: 滋賀県中学校体育連盟 バスケットボール専門部
A3: 大会出場 申込書
A5: 令和 年度 滋賀県秋季強化練習会
A7: =IF(入力用!B3=""," ",入力用!B3) | F7: =IF(入力用!D3=""," ",入力用!D3) | H7: =IF(入力用!B2=""," ",入力用!B2) | I7: ブロック
A8: コーチ | C8: =IF(入力用!D7="","","(部活指導員)")&IF(入力用!B7=""," ",入力用!B7) | F8: ｱｼｽﾀﾝﾄｺｰﾁ | G8: =IF(入力用!D8="","","(外部)")&IF(入力用!B8=""," ",入力用!B8)
A9: 引率責任者 | C9: =IF(入力用!B6=""," ",入力用!B6) | D9: ﾏﾈｰｼﾞｬｰ | E9: =IF(入力用!B9=""," ",入力用!B9) | G9: 帯同審判 | H9: =IF(入力用!B10=""," ",入力用!B10)
B10: No. | C10: 選 手 名 | F10: 学 年 | G10: 身 長 | H10: ﾎﾟｼﾞｼｮﾝ | I10: 備 考
A11: 1 | B11: =入力用!A16 -> 4 | C11: =IF(入力用!B16=""," ",入力用!B16) | F11: =IF(入力用!C16=""," ",入力用!C16) | G11: =IF(入力用!D16=""," ",入力用!D16) | H11: =IF(入力用!E16=""," ",入力用!E16) | I11: =IF(入力用!F16=""," ",入力用!F16)
A12: 2 | B12: =入力用!A17 -> 5 | C12: =IF(入力用!B17=""," ",入力用!B17) | F12: =IF(入力用!C17=""," ",入力用!C17) | G12: =IF(入力用!D17=""," ",入力用!D17) | H12: =IF(入力用!E17=""," ",入力用!E17) | I12: =IF(入力用!F17=""," ",入力用!F17)
A13: 3 | B13: =入力用!A18 -> 6 | C13: =IF(入力用!B18=""," ",入力用!B18) | F13: =IF(入力用!C18=""," ",入力用!C18) | G13: =IF(入力用!D18=""," ",入力用!D18) | H13: =IF(入力用!E18=""," ",入力用!E18) | I13: =IF(入力用!F18=""," ",入力用!F18)
A14: 4 | B14: =入力用!A19 -> 7 | C14: =IF(入力用!B19=""," ",入力用!B19) | F14: =IF(入力用!C19=""," ",入力用!C19) | G14: =IF(入力用!D19=""," ",入力用!D19) | H14: =IF(入力用!E19=""," ",入力用!E19) | I14: =IF(入力用!F19=""," ",入力用!F19)
A15: 5 | B15: =入力用!A20 -> 8 | C15: =IF(入力用!B20=""," ",入力用!B20) | F15: =IF(入力用!C20=""," ",入力用!C20) | G15: =IF(入力用!D20=""," ",入力用!D20) | H15: =IF(入力用!E20=""," ",入力用!E20) | I15: =IF(入力用!F20=""," ",入力用!F20)
A16: 6 | B16: =入力用!A21 -> 9 | C16: =IF(入力用!B21=""," ",入力用!B21) | F16: =IF(入力用!C21=""," ",入力用!C21) | G16: =IF(入力用!D21=""," ",入力用!D21) | H16: =IF(入力用!E21=""," ",入力用!E21) | I16: =IF(入力用!F21=""," ",入力用!F21)
A17: 7 | B17: =入力用!A22 -> 10 | C17: =IF(入力用!B22=""," ",入力用!B22) | F17: =IF(入力用!C22=""," ",入力用!C22) | G17: =IF(入力用!D22=""," ",入力用!D22) | H17: =IF(入力用!E22=""," ",入力用!E22) | I17: =IF(入力用!F22=""," ",入力用!F22)
A18: 8 | B18: =入力用!A23 -> 11 | C18: =IF(入力用!B23=""," ",入力用!B23) | F18: =IF(入力用!C23=""," ",入力用!C23) | G18: =IF(入力用!D23=""," ",入力用!D23) | H18: =IF(入力用!E23=""," ",入力用!E23) | I18: =IF(入力用!F23=""," ",入力用!F23)
A19: 9 | B19: =入力用!A24 -> 12 | C19: =IF(入力用!B24=""," ",入力用!B24) | F19: =IF(入力用!C24=""," ",入力用!C24) | G19: =IF(入力用!D24=""," ",入力用!D24) | H19: =IF(入力用!E24=""," ",入力用!E24) | I19: =IF(入力用!F24=""," ",入力用!F24)
A20: 10 | B20: =入力用!A25 -> 13 | C20: =IF(入力用!B25=""," ",入力用!B25) | F20: =IF(入力用!C25=""," ",入力用!C25) | G20: =IF(入力用!D25=""," ",入力用!D25) | H20: =IF(入力用!E25=""," ",入力用!E25) | I20: =IF(入力用!F25=""," ",入力用!F25)
A21: 11 | B21: =入力用!A26 -> 14 | C21: =IF(入力用!B26=""," ",入力用!B26) | F21: =IF(入力用!C26=""," ",入力用!C26) | G21: =IF(入力用!D26=""," ",入力用!D26) | H21: =IF(入力用!E26=""," ",入力用!E26) | I21: =IF(入力用!F26=""," ",入力用!F26)
A22: 12 | B22: =入力用!A27 -> 15 | C22: =IF(入力用!B27=""," ",入力用!B27) | F22: =IF(入力用!C27=""," ",入力用!C27) | G22: =IF(入力用!D27=""," ",入力用!D27) | H22: =IF(入力用!E27=""," ",入力用!E27) | I22: =IF(入力用!F27=""," ",入力用!F27)
... A25: 15 | B25: =入力用!A30 -> 18 | C25: =IF(入力用!B30=""," ",入力用!B30) | F25: =IF(入力用!C30=""," ",入力用!C30) | G25: =IF(入力用!D30=""," ",入力用!D30) | H25: =IF(入力用!E30=""," ",入力用!E30) | I25: =IF(入力用!F30=""," ",入力用!F30)
A27: 上記の者の出場を認めます。
A28: なお、上記の者は、参加資格に該当する者であることを証明します。
E30: =IF(入力用!B11=""," ",入力用!B11)
A32: =IF(入力用!B3=""," ",入力用!B3&入力用!C3&" 学校長・代表 "&入力用!B5&" 印 ")

Sheet 冬季
A1: 滋賀県中学校体育連盟 バスケットボール専門部
A3: 大会出場 申込書
A5: 令和 年度 滋賀県冬季強化練習会
A7: =IF(入力用!B3=""," ",入力用!B3) | F7: =IF(入力用!D3=""," ",入力用!D3) | H7: =IF(入力用!B2=""," ",入力用!B2) | I7: ブロック
A8: コーチ | C8: =IF(入力用!D7="","","(部活指導員)")&IF(入力用!B7=""," ",入力用!B7) | F8: ｱｼｽﾀﾝﾄｺｰﾁ | G8: =IF(入力用!D8="","","(外部)")&IF(入力用!B8=""," ",入力用!B8)
A9: 引率責任者 | C9: =IF(入力用!B6=""," ",入力用!B6) | D9: ﾏﾈｰｼﾞｬｰ | E9: =IF(入力用!B9=""," ",入力用!B9) | G9: 帯同審判 | H9: =IF(入力用!B10=""," ",入力用!B10)
B10: No. | C10: 選 手 名 | F10: 学 年 | G10: 身 長 | H10: ﾎﾟｼﾞｼｮﾝ | I10: 備 考
A11: 1 | B11: =入力用!A16 -> 4 | C11: =IF(入力用!B16=""," ",入力用!B16) | F11: =IF(入力用!C16=""," ",入力用!C16) | G11: =IF(入力用!D16=""," ",入力用!D16) | H11: =IF(入力用!E16=""," ",入力用!E16) | I11: =IF(入力用!F16=""," ",入力用!F16)
A12: 2 | B12: =入力用!A17 -> 5 | C12: =IF(入力用!B17=""," ",入力用!B17) | F12: =IF(入力用!C17=""," ",入力用!C17) | G12: =IF(入力用!D17=""," ",入力用!D17) | H12: =IF(入力用!E17=""," ",入力用!E17) | I12: =IF(入力用!F17=""," ",入力用!F17)
A13: 3 | B13: =入力用!A18 -> 6 | C13: =IF(入力用!B18=""," ",入力用!B18) | F13: =IF(入力用!C18=""," ",入力用!C18) | G13: =IF(入力用!D18=""," ",入力用!D18) | H13: =IF(入力用!E18=""," ",入力用!E18) | I13: =IF(入力用!F18=""," ",入力用!F18)
A14: 4 | B14: =入力用!A19 -> 7 | C14: =IF(入力用!B19=""," ",入力用!B19) | F14: =IF(入力用!C19=""," ",入力用!C19) | G14: =IF(入力用!D19=""," ",入力用!D19) | H14: =IF(入力用!E19=""," ",入力用!E19) | I14: =IF(入力用!F19=""," ",入力用!F19)
A15: 5 | B15: =入力用!A20 -> 8 | C15: =IF(入力用!B20=""," ",入力用!B20) | F15: =IF(入力用!C20=""," ",入力用!C20) | G15: =IF(入力用!D20=""," ",入力用!D20) | H15: =IF(入力用!E20=""," ",入力用!E20) | I15: =IF(入力用!F20=""," ",入力用!F20)
A16: 6 | B16: =入力用!A21 -> 9 | C16: =IF(入力用!B21=""," ",入力用!B21) | F16: =IF(入力用!C21=""," ",入力用!C21) | G16: =IF(入力用!D21=""," ",入力用!D21) | H16: =IF(入力用!E21=""," ",入力用!E21) | I16: =IF(入力用!F21=""," ",入力用!F21)
A17: 7 | B17: =入力用!A22 -> 10 | C17: =IF(入力用!B22=""," ",入力用!B22) | F17: =IF(入力用!C22=""," ",入力用!C22) | G17: =IF(入力用!D22=""," ",入力用!D22) | H17: =IF(入力用!E22=""," ",入力用!E22) | I17: =IF(入力用!F22=""," ",入力用!F22)
A18: 8 | B18: =入力用!A23 -> 11 | C18: =IF(入力用!B23=""," ",入力用!B23) | F18: =IF(入力用!C23=""," ",入力用!C23) | G18: =IF(入力用!D23=""," ",入力用!D23) | H18: =IF(入力用!E23=""," ",入力用!E23) | I18: =IF(入力用!F23=""," ",入力用!F23)
A19: 9 | B19: =入力用!A24 -> 12 | C19: =IF(入力用!B24=""," ",入力用!B24) | F19: =IF(入力用!C24=""," ",入力用!C24) | G19: =IF(入力用!D24=""," ",入力用!D24) | H19: =IF(入力用!E24=""," ",入力用!E24) | I19: =IF(入力用!F24=""," ",入力用!F24)
A20: 10 | B20: =入力用!A25 -> 13 | C20: =IF(入力用!B25=""," ",入力用!B25) | F20: =IF(入力用!C25=""," ",入力用!C25) | G20: =IF(入力用!D25=""," ",入力用!D25) | H20: =IF(入力用!E25=""," ",入力用!E25) | I20: =IF(入力用!F25=""," ",入力用!F25)
A21: 11 | B21: =入力用!A26 -> 14 | C21: =IF(入力用!B26=""," ",入力用!B26) | F21: =IF(入力用!C26=""," ",入力用!C26) | G21: =IF(入力用!D26=""," ",入力用!D26) | H21: =IF(入力用!E26=""," ",入力用!E26) | I21: =IF(入力用!F26=""," ",入力用!F26)
A22: 12 | B22: =入力用!A27 -> 15 | C22: =IF(入力用!B27=""," ",入力用!B27) | F22: =IF(入力用!C27=""," ",入力用!C27) | G22: =IF(入力用!D27=""," ",入力用!D27) | H22: =IF(入力用!E27=""," ",入力用!E27) | I22: =IF(入力用!F27=""," ",入力用!F27)
... A25: 15 | B25: =入力用!A30 -> 18 | C25: =IF(入力用!B30=""," ",入力用!B30) | F25: =IF(入力用!C30=""," ",入力用!C30) | G25: =IF(入力用!D30=""," ",入力用!D30) | H25: =IF(入力用!E30=""," ",入力用!E30) | I25: =IF(入力用!F30=""," ",入力用!F30)
A27: 上記の者の出場を認めます。
A28: なお、上記の者は、参加資格に該当する者であることを証明します。
E30: =IF(入力用!B11=""," ",入力用!B11)
A32: =IF(入力用!B3=""," ",入力用!B3&入力用!C3&" 学校長・代表 "&入力用!B5&" 印 ")
