Workbook

Sheet 入力用
A2: 9/12抽選会出席有無 | I2: は直接入力
A3: JBA登録チーム名 | I3: は、クリックすると矢印がでるので、リストから選択
A4: JBA ID チーム登録番号
A5: チーム責任者
A6: スタッフ① | C6: Hコーチ | G6: ベンチ入りスタッフは、６人まで。
A7: スタッフ② | C7: Aコーチ | G7: Hコーチ・Aコーチ・コーチの場合は、ライセンスも記入。
A8: スタッフ③ | G8: マネージャー・トレーナー・ドクターは、それぞれ１人まで。
A9: スタッフ④
A10: スタッフ⑤
A11: スタッフ⑥
A12: 帯同審判１人目 | F12: →必ず、１人は必要です。E級以上。
A13: 帯同審判２人目（あれば） | F13: →おられれば、協力をお願いします。E級以上。
A14: ユニフォーム濃色の色
A15: 提出日 | D15: 46265
A16: 責任者連絡電話番号 | I16: キャプテンに○を記入
I17: ↓
B18: No. | C18: 背番号 | D18: 選手名 | E18: 学年 | F18: 身長 | G18: ポジション | H18: 通学中学校名 | I18: キャプテン | J18: JBA ID
B19: 1
B20: 2 | K20: ＜記入上の注意＞
B21: 3 | K21: ポジションは，①②のどちらかの形式で記入のこと。
B22: 4 | K22: ① G・・・ガード
B23: 5 | K23: F・・・フォワード
B24: 6 | K24: C・・・センター
B25: 7 | K25: 兼ねている場合は，GFなどのように書く。
B26: 8
B27: 9 | K27: ② PG・・・ポイントガード
B28: 10 | K28: SG・・・シューティングガード
B29: 11 | K29: SF・・・スモールフォワード
B30: 12 | K30: PF・・・パワーフォワード
B31: 13 | K31: C・・・センター
B32: 14
B33: 15

Sheet 申込書
A1: 令和8年度 第7回滋賀県U15バスケットボール選手権大会 出場申込書 （兼 Jr.ウインターカップ2026-27 第7回全国U15バスケットボール選手権大会 滋賀県予選会）
A2: チーム名 | E2: =IF(入力用!D3=""," ",入力用!D3) | AG2: =IF(入力用!E3=""," ",入力用!E3) | AM2: 抽選 出欠 | AP2: =IF(入力用!D2=""," ",入力用!D2)
A3: 責任者 | E3: =IF(入力用!D5=""," ",入力用!D5) | S3: 連絡先 | W3: =IF(入力用!D16=""," ",入力用!D16) | AG3: チーム JBA ID | AM3: =IF(入力用!D4=""," ",入力用!D4)
A4: 帯同審判 | E4: =IF(入力用!D12=""," ",入力用!D12)&IF(入力用!E12=""," "," ("&入力用!E12&")") | U4: =IF(入力用!D13=""," ",入力用!D13)&IF(入力用!E13=""," "," ("&入力用!E13&")") | AG4: ユニフォーム 濃色 | AM4: =IF(入力用!D14=""," ",入力用!D14)
A5: ベンチ入りスタッフ
A6: =IF(入力用!C6=""," ",入力用!C6) -> Hコーチ | D6: =IF(入力用!D6=""," ",入力用!D6)&IF(入力用!E6=""," "," ("&入力用!E6&")") | P6: =IF(入力用!C7=""," ",入力用!C7) -> Aコーチ | S6: =IF(入力用!D7=""," ",入力用!D7)&IF(入力用!E7=""," "," ("&入力用!E7&")") | AE6: =IF(入力用!C8=""," ",入力用!C8) | AH6: =IF(入力用!D8=""," ",入力用!D8)&IF(入力用!E8=""," "," ("&入力用!E8&")")
A7: =IF(入力用!C9=""," ",入力用!C9) | D7: =IF(入力用!D9=""," ",入力用!D9)&IF(入力用!E9=""," "," ("&入力用!E9&")") | P7: =IF(入力用!C10=""," ",入力用!C10) | S7: =IF(入力用!D10=""," ",入力用!D10)&IF(入力用!E10=""," "," ("&入力用!E10&")") | AE7: =IF(入力用!C11=""," ",入力用!C11) | AH7: =IF(入力用!D11=""," ",入力用!D11)&IF(入力用!E11=""," "," ("&入力用!E11&")")
A8: No. | C8: 背番号 | F8: CAP | I8: 選手名 | U8: 学年 | Y8: 身長 | AD8: ポジション | AG8: 通学校名 | AM8: 選手 ＪＢＡ ID
A9: 1 | C9: =IF(入力用!C19=""," ",入力用!C19) | F9: =IF(入力用!I19=""," ",入力用!I19) | I9: =IF(入力用!D19=""," ",入力用!D19) | U9: =IF(入力用!E19=""," ",入力用!E19) | Y9: =IF(入力用!F19=""," ",入力用!F19) | AD9: =IF(入力用!G19=""," ",入力用!G19) | AG9: =IF(入力用!H19=""," ",入力用!H19) | AM9: =IF(入力用!J19=""," ",入力用!J19)
A10: 2 | C10: =IF(入力用!C20=""," ",入力用!C20) | F10: =IF(入力用!I20=""," ",入力用!I20) | I10: =IF(入力用!D20=""," ",入力用!D20) | U10: =IF(入力用!E20=""," ",入力用!E20) | Y10: =IF(入力用!F20=""," ",入力用!F20) | AD10: =IF(入力用!G20=""," ",入力用!G20) | AG10: =IF(入力用!H20=""," ",入力用!H20) | AM10: =IF(入力用!J20=""," ",入力用!J20)
A11: 3 | C11: =IF(入力用!C21=""," ",入力用!C21) | F11: =IF(入力用!I21=""," ",入力用!I21) | I11: =IF(入力用!D21=""," ",入力用!D21) | U11: =IF(入力用!E21=""," ",入力用!E21) | Y11: =IF(入力用!F21=""," ",入力用!F21) | AD11: =IF(入力用!G21=""," ",入力用!G21) | AG11: =IF(入力用!H21=""," ",入力用!H21) | AM11: =IF(入力用!J21=""," ",入力用!J21)
A12: 4 | C12: =IF(入力用!C22=""," ",入力用!C22) | F12: =IF(入力用!I22=""," ",入力用!I22) | I12: =IF(入力用!D22=""," ",入力用!D22) | U12: =IF(入力用!E22=""," ",入力用!E22) | Y12: =IF(入力用!F22=""," ",入力用!F22) | AD12: =IF(入力用!G22=""," ",入力用!G22) | AG12: =IF(入力用!H22=""," ",入力用!H22) | AM12: =IF(入力用!J22=""," ",入力用!J22)
A13: 5 | C13: =IF(入力用!C23=""," ",入力用!C23) | F13: =IF(入力用!I23=""," ",入力用!I23) | I13: =IF(入力用!D23=""," ",入力用!D23) | U13: =IF(入力用!E23=""," ",入力用!E23) | Y13: =IF(入力用!F23=""," ",入力用!F23) | AD13: =IF(入力用!G23=""," ",入力用!G23) | AG13: =IF(入力用!H23=""," ",入力用!H23) | AM13: =IF(入力用!J23=""," ",入力用!J23)
A14: 6 | C14: =IF(入力用!C24=""," ",入力用!C24) | F14: =IF(入力用!I24=""," ",入力用!I24) | I14: =IF(入力用!D24=""," ",入力用!D24) | U14: =IF(入力用!E24=""," ",入力用!E24) | Y14: =IF(入力用!F24=""," ",入力用!F24) | AD14: =IF(入力用!G24=""," ",入力用!G24) | AG14: =IF(入力用!H24=""," ",入力用!H24) | AM14: =IF(入力用!J24=""," ",入力用!J24)
A15: 7 | C15: =IF(入力用!C25=""," ",入力用!C25) | F15: =IF(入力用!I25=""," ",入力用!I25) | I15: =IF(入力用!D25=""," ",入力用!D25) | U15: =IF(入力用!E25=""," ",入力用!E25) | Y15: =IF(入力用!F25=""," ",入力用!F25) | AD15: =IF(入力用!G25=""," ",入力用!G25) | AG15: =IF(入力用!H25=""," ",入力用!H25) | AM15: =IF(入力用!J25=""," ",入力用!J25)
A16: 8 | C16: =IF(入力用!C26=""," ",入力用!C26) | F16: =IF(入力用!I26=""," ",入力用!I26) | I16: =IF(入力用!D26=""," ",入力用!D26) | U16: =IF(入力用!E26=""," ",入力用!E26) | Y16: =IF(入力用!F26=""," ",入力用!F26) | AD16: =IF(入力用!G26=""," ",入力用!G26) | AG16: =IF(入力用!H26=""," ",入力用!H26) | AM16: =IF(入力用!J26=""," ",入力用!J26)
A17: 9 | C17: =IF(入力用!C27=""," ",入力用!C27) | F17: =IF(入力用!I27=""," ",入力用!I27) | I17: =IF(入力用!D27=""," ",入力用!D27) | U17: =IF(入力用!E27=""," ",入力用!E27) | Y17: =IF(入力用!F27=""," ",入力用!F27) | AD17: =IF(入力用!G27=""," ",入力用!G27) | AG17: =IF(入力用!H27=""," ",入力用!H27) | AM17: =IF(入力用!J27=""," ",入力用!J27)
A18: 10 | C18: =IF(入力用!C28=""," ",入力用!C28) | F18: =IF(入力用!I28=""," ",入力用!I28) | I18: =IF(入力用!D28=""," ",入力用!D28) | U18: =IF(入力用!E28=""," ",入力用!E28) | Y18: =IF(入力用!F28=""," ",入力用!F28) | AD18: =IF(入力用!G28=""," ",入力用!G28) | AG18: =IF(入力用!H28=""," ",入力用!H28) | AM18: =IF(入力用!J28=""," ",入力用!J28)
A19: 11 | C19: =IF(入力用!C29=""," ",入力用!C29) | F19: =IF(入力用!I29=""," ",入力用!I29) | I19: =IF(入力用!D29=""," ",入力用!D29) | U19: =IF(入力用!E29=""," ",入力用!E29) | Y19: =IF(入力用!F29=""," ",入力用!F29) | AD19: =IF(入力用!G29=""," ",入力用!G29) | AG19: =IF(入力用!H29=""," ",入力用!H29) | AM19: =IF(入力用!J29=""," ",入力用!J29)
A20: 12 | C20: =IF(入力用!C30=""," ",入力用!C30) | F20: =IF(入力用!I30=""," ",入力用!I30) | I20: =IF(入力用!D30=""," ",入力用!D30) | U20: =IF(入力用!E30=""," ",入力用!E30) | Y20: =IF(入力用!F30=""," ",入力用!F30) | AD20: =IF(入力用!G30=""," ",入力用!G30) | AG20: =IF(入力用!H30=""," ",入力用!H30) | AM20: =IF(入力用!J30=""," ",入力用!J30)
... A23: 15 | C23: =IF(入力用!C33=""," ",入力用!C33) | F23: =IF(入力用!I33=""," ",入力用!I33) | I23: =IF(入力用!D33=""," ",入力用!D33) | U23: =IF(入力用!E33=""," ",入力用!E33) | Y23: =IF(入力用!F33=""," ",入力用!F33) | AD23: =IF(入力用!G33=""," ",入力用!G33) | AG23: =IF(入力用!H33=""," ",入力用!H33) | AM23: =IF(入力用!J33=""," ",入力用!J33)
A25: この大会への参加資格を有しており、この大会への参加を申し込みます。
S26: =IF(入力用!D15=""," ",入力用!D15) -> 46265
V27: =IF(入力用!D3=""," ","チーム責任者 "&入力用!D5)

Sheet エントリー変更
A1: 令和８年度 第７回滋賀県U15バスケットボール選手権大会 エントリー変更届
A3: チーム名 | E3: =IF(入力用!D3=""," ",入力用!D3) | AE3: =IF(入力用!E3=""," ",入力用!E3) | AM3: チーム 責任者 | AQ3: =IF(入力用!D5=""," ",入力用!D5)
A4: ＜ベンチ入りスタッフ＞
A5: 変更前 | R5: → | Y5: 変更後 | AT5: ＊変更箇所のみ入力すること。
A6: 役職 | F6: 名前 （ライセンス級） | Y6: 役職 | AD6: 名前 （ライセンス級） | AT6: ＊10/8(木)17:00締切 メール添付
A7: =IF(入力用!C6=""," ",入力用!C6) -> Hコーチ | F7: =IF(入力用!D6=""," ",入力用!D6)&IF(入力用!E6=""," "," ("&入力用!E6&")") | R7: → | AT7: ＊番号のみの変更は不可
A8: =IF(入力用!C7=""," ",入力用!C7) -> Aコーチ | F8: =IF(入力用!D7=""," ",入力用!D7)&IF(入力用!E7=""," "," ("&入力用!E7&")") | R8: →
A9: =IF(入力用!C10=""," ",入力用!C10) | F9: =IF(入力用!D10=""," ",入力用!D10)&IF(入力用!E10=""," "," ("&入力用!E10&")") | R9: →
A10: =IF(入力用!C11=""," ",入力用!C11) | F10: =IF(入力用!D11=""," ",入力用!D11)&IF(入力用!E11=""," "," ("&入力用!E11&")") | R10: →
A11: ＜選手＞
A12: 申込書 | C12: 変更前 | R12: → | Y12: 変更後
A13: No. | C13: 背番号 | F13: 選手名 | Y13: 背番号 | AB13: 選手名 | AN13: 学年 | AR13: 身長 | AW13: ポジション | BA13: 通学校名 | BG13: 選手JBA ID
A14: 1 | C14: =IF(入力用!C19=""," ",入力用!C19) | F14: =IF(入力用!D19=""," ",入力用!D19) | R14: →
A15: 2 | C15: =IF(入力用!C20=""," ",入力用!C20) | F15: =IF(入力用!D20=""," ",入力用!D20) | R15: →
A16: 3 | C16: =IF(入力用!C21=""," ",入力用!C21) | F16: =IF(入力用!D21=""," ",入力用!D21) | R16: →
A17: 4 | C17: =IF(入力用!C22=""," ",入力用!C22) | F17: =IF(入力用!D22=""," ",入力用!D22) | R17: →
A18: 5 | C18: =IF(入力用!C23=""," ",入力用!C23) | F18: =IF(入力用!D23=""," ",入力用!D23) | R18: →
A19: 6 | C19: =IF(入力用!C24=""," ",入力用!C24) | F19: =IF(入力用!D24=""," ",入力用!D24) | R19: →
A20: 7 | C20: =IF(入力用!C25=""," ",入力用!C25) | F20: =IF(入力用!D25=""," ",入力用!D25) | R20: →
A21: 8 | C21: =IF(入力用!C26=""," ",入力用!C26) | F21: =IF(入力用!D26=""," ",入力用!D26) | R21: →
A22: 9 | C22: =IF(入力用!C27=""," ",入力用!C27) | F22: =IF(入力用!D27=""," ",入力用!D27) | R22: →
A23: 10 | C23: =IF(入力用!C28=""," ",入力用!C28) | F23: =IF(入力用!D28=""," ",入力用!D28) | R23: →
A24: 11 | C24: =IF(入力用!C29=""," ",入力用!C29) | F24: =IF(入力用!D29=""," ",入力用!D29) | R24: →
A25: 12 | C25: =IF(入力用!C30=""," ",入力用!C30) | F25: =IF(入力用!D30=""," ",入力用!D30) | R25: →
... A28: 15 | C28: =IF(入力用!C33=""," ",入力用!C33) | F28: =IF(入力用!D33=""," ",入力用!D33) | R28: →
